BEGIN:VCALENDAR
VERSION:2.0
PRODID:-//hacksw/handcal//NONSGML v1.0//EN
BEGIN:VEVENT
SUMMARY:Sortie Cecile
UID:6481d3a4-abac-41ab-acfc-2096153613d2
DTSTART:20260502T081500Z
DTEND:20260502T091500Z
LOCATION:Localisation   
CATEGORIES:Sportif
STATUS:
URL;VALUE=URI:https://1pourdeux1poureux.sportsregions.fr/evenements/2026/05/02/sortie-cecile-2443379
END:VEVENT
END:VCALENDAR
