BEGIN:VCALENDAR
VERSION:2.0
PRODID:-//hacksw/handcal//NONSGML v1.0//EN
BEGIN:VEVENT
SUMMARY:Formation Cyril
UID:7e7de555-837b-4649-aa8b-9bacf8c4e059
DTSTART:20260502T091500Z
DTEND:20260502T101500Z
LOCATION:Localisation   
CATEGORIES:Sportif
STATUS:
URL;VALUE=URI:https://1pourdeux1poureux.sportsregions.fr/evenements/2026/05/02/formation-cyril-2443381
END:VEVENT
END:VCALENDAR
